BEGIN:VCALENDAR
VERSION:2.0
PRODID:-//eventon.com NONSGML v1.0//EN
CALSCALE:GREGORIAN
METHOD:PUBLISH
BEGIN:VEVENT
UID:69e7390b78570
DTSTAMP:20260421T084459Z
DTSTART:20230317T220000Z
DTEND:20230318T010000Z
LOCATION:
SUMMARY:Kids Night Out: Charlottesville Catholic School
DESCRIPTION:\nhttps://www.camp4real.com/events/kids-night-out-charlottesvil
 le-catholic-school/
URL:https://www.camp4real.com/events/kids-night-out-charlottesville-catholic-school/
END:VEVENT
END:VCALENDAR