BEGIN:VCALENDAR
VERSION:2.0
PRODID:-//eventon.com NONSGML v1.0//EN
CALSCALE:GREGORIAN
METHOD:PUBLISH
BEGIN:VEVENT
UID:69e74e140d927
DTSTAMP:20260421T101444Z
DTSTART:20230731T120000Z
DTEND:20230801T035000Z
LOCATION:Miller School Old Main\,  1000 Samuel Miller Loop
SUMMARY:Summer Camp: Miller School (Limited Availability)
DESCRIPTION:\nhttps://www.camp4real.com/events/summer-camp-miller-school-5/
URL:https://www.camp4real.com/events/summer-camp-miller-school-5/
END:VEVENT
END:VCALENDAR